BEGIN:VCALENDAR
VERSION:2.0
PRODID:-//ChamberMaster//Event Calendar 2.0//EN
METHOD:PUBLISH
X-PUBLISHED-TTL:P3D
REFRESH-INTERVAL:P3D
CALSCALE:GREGORIAN
BEGIN:VEVENT
DTSTART:20150319T123000Z
DTEND:20150319T140000Z
X-MICROSOFT-CDO-ALLDAYEVENT:FALSE
SUMMARY:WIM3 March Madness!
DESCRIPTION:Why Join?  March Madness "Be Mad About WIM3"\n\n\n\nNinth in an all new interview series\, will be with members\, Chris des Rochers\, Denise Gaskell\, Joyce Lewis\, Susan Swett\, and Leann Campbell during their March Madness "Be Mad About WIM3" membership drive.\n\nDiscussion will be centered on personal criteria these members had for joining WIM3\, inspiration for staying members\, and how they have taken the education they have learned and applied it to their personal and professional lives.\n\n\n\nExperience success\, professionally and personally\, with Women in McHenry County (WIM3).  We are an organization which provides networking\, mentoring and support to our members.  Bringing together professional women from across industries\, WIM3 provides opportunities to build new skill sets\, enhance leadership abilities\, develop and strengthen business connections\, and earn prestigious professional awards.
X-ALT-DESC;FMTTYPE=text/html:Why Join?&nbsp\; March Madness &quot\;Be Mad About WIM3&quot\;<br />\n<br />\nNinth in an all new interview series\, will be with members\, Chris des Rochers\, Denise Gaskell\, Joyce Lewis\, Susan Swett\, and Leann Campbell during their March Madness &quot\;Be Mad About WIM3&quot\; membership drive.<br />\nDiscussion will be centered on personal criteria these members had for joining WIM3\, inspiration for staying members\, and how they have taken the education they have learned and applied it to their personal and professional lives.<br />\n<br />\n<span style="font-family:calibri\,sans-serif"><span style="font-size:11.0pt">Experience success\, professionally and personally\, with Women in McHenry County (WIM3).&nbsp\; We are an organization which provides networking\, mentoring and support to our members.&nbsp\; Bringing together professional women from across industries\, WIM3 provides opportunities to build new skill sets\, enhance leadership abilities\, develop and strengthen business connections\, and earn prestigious professional awards. </span></span>
LOCATION:31 North Banquets & Catering 217 Front St. McHenry IL 60050
UID:e.138.5435
SEQUENCE:3
DTSTAMP:20260425T144856Z
URL:http://carygrove.smartcms.site/events/details/wim3-march-madness-03-19-2015-5435
END:VEVENT

END:VCALENDAR
