BEGIN:VCALENDAR
VERSION:2.0
PRODID:-//ChamberMaster//Event Calendar 2.0//EN
METHOD:PUBLISH
X-PUBLISHED-TTL:P3D
REFRESH-INTERVAL:P3D
CALSCALE:GREGORIAN
BEGIN:VEVENT
DTSTART:20140715T233000Z
DTEND:20140716T010000Z
X-MICROSOFT-CDO-ALLDAYEVENT:FALSE
SUMMARY:Where Did My Libido Go? Female Sexual Dysfunction and Other Mysteries
DESCRIPTION:Are you frustrated with the lack of sexual responsiveness in the bedroom? More than forty percent of women have reported some sort of sexual dysfunction and don't know where to turn. Good Shepherd invites you to a candid conversation with obstetrician-gynecologist\, Preeti Jhaveri\, MD as she discusses options and treatments to Female Sexual Dysfunction.
X-ALT-DESC;FMTTYPE=text/html:<p align="left">&nbsp\;</p>\n\n<p><font size="2">Are you frustrated with the lack of sexual responsiveness in the bedroom? More than forty percent of women have reported some sort of sexual dysfunction and don&rsquo\;t know where to turn. Good Shepherd invites you to a candid conversation with obstetrician-gynecologist\, </font><b><font face="ITC Goudy Sans Std Medium\,ITC Goudy Sans Std Medium" size="2"><font face="ITC Goudy Sans Std Medium\,ITC Goudy Sans Std Medium" size="2">Preeti Jhaveri\, MD </font></font></b><font size="2">as she discusses options and treatments to Female Sexual Dysfunction. </font></p>\n
LOCATION:Advocate Good Shepherd Hospital Prairie Room
UID:e.138.4351
SEQUENCE:3
DTSTAMP:20260426T034336Z
URL:http://carygrove.smartcms.site/events/details/where-did-my-libido-go-female-sexual-dysfunction-and-other-mysteries-07-15-2014-4351
END:VEVENT

END:VCALENDAR
