BEGIN:VCALENDAR
VERSION:2.0
PRODID:-//ChamberMaster//Event Calendar 2.0//EN
METHOD:PUBLISH
X-PUBLISHED-TTL:P3D
REFRESH-INTERVAL:P3D
CALSCALE:GREGORIAN
BEGIN:VEVENT
DTSTART:20211031T200000Z
DTEND:20211101T000000Z
X-MICROSOFT-CDO-ALLDAYEVENT:FALSE
SUMMARY:Village of Cary Trick or Treat 2021
DESCRIPTION:
X-ALT-DESC;FMTTYPE=text/html:
LOCATION:
UID:e.138.12170
SEQUENCE:3
DTSTAMP:20260420T002319Z
URL:http://carygrove.smartcms.site/events/details/village-of-cary-trick-or-treat-2021-12170
END:VEVENT

END:VCALENDAR
