BEGIN:VCALENDAR
VERSION:2.0
PRODID:-//ChamberMaster//Event Calendar 2.0//EN
METHOD:PUBLISH
X-PUBLISHED-TTL:P3D
REFRESH-INTERVAL:P3D
CALSCALE:GREGORIAN
BEGIN:VEVENT
DTSTART:20150306T173000Z
DTEND:20150306T200000Z
X-MICROSOFT-CDO-ALLDAYEVENT:FALSE
SUMMARY:There's No Place Like Home Women's Celebration Luncheon
DESCRIPTION:Join us on Friday\, March 6th\, for our annual women's celebration luncheon.  Kelly Swanson\, comedian and motivational story teller\, returns by popular demand for a 2nd year.  Invite your friends for a fun filled afternoon of good simple humor and Kelly's motivational story of women and community.  No matter what the outside world has in store for you - There's No Place Like Home. \n\n\n\n*Tickets are $40.00 per person.  Reserve your seat today!\n\n\n\nMission:  To provide Hope\, Opportunity and Support that empowers women and children\, as they journey from homelessness to self-sufficiency.
X-ALT-DESC;FMTTYPE=text/html:Join us on Friday\, March 6th\, for our annual women&#39\;s celebration luncheon.&nbsp\; Kelly Swanson\, comedian and motivational story teller\, returns by popular demand for a 2nd year.&nbsp\; Invite your friends for a fun filled afternoon of good simple humor and Kelly&#39\;s motivational story of women and community.&nbsp\; No matter what the outside world has in store for you - <strong>There&#39\;s No Place Like Home</strong>.&nbsp\;<br />\n<br />\n*Tickets are $40.00 per person.&nbsp\; Reserve your seat today!<br />\n<br />\n<strong>Mission</strong>: &nbsp\;<em>To provide <strong>H</strong>ope\, <strong>O</strong>pportunity and <strong>S</strong>upport that empowers women and children\, as they journey from homelessness to self-sufficiency.</em>
LOCATION:D' Andrea Banquets & Conference Center located at 4419 W. Northwest Highway in Crystal Lake\, IL
UID:e.138.5144
SEQUENCE:3
DTSTAMP:20260425T145136Z
URL:http://carygrove.smartcms.site/events/details/there-s-no-place-like-home-women-s-celebration-luncheon-03-06-2015-5144
END:VEVENT

END:VCALENDAR
