BEGIN:VCALENDAR
VERSION:2.0
PRODID:-//ChamberMaster//Event Calendar 2.0//EN
METHOD:PUBLISH
X-PUBLISHED-TTL:P3D
REFRESH-INTERVAL:P3D
CALSCALE:GREGORIAN
BEGIN:VEVENT
DTSTART:20150409T000000Z
DTEND:20150409T010000Z
X-MICROSOFT-CDO-ALLDAYEVENT:FALSE
SUMMARY:The History of Boating on the Fox Chain O' Lakes
DESCRIPTION:Join David Lester\, historian and author\, as he discusses the regional development and boating activity between the mid-1800's and the present in the Fox River and Chain O' Lakes.
X-ALT-DESC;FMTTYPE=text/html:Join David Lester\, historian and author\, as he discusses the regional development and boating activity between the mid-1800&#39\;s and the present in the Fox River and Chain O&#39\; Lakes.
LOCATION:Fox River Grove Memorial Library
UID:e.138.5429
SEQUENCE:3
DTSTAMP:20260425T130029Z
URL:http://carygrove.smartcms.site/events/details/the-history-of-boating-on-the-fox-chain-o-lakes-04-08-2015-5429
END:VEVENT

END:VCALENDAR
