BEGIN:VCALENDAR
VERSION:2.0
PRODID:-//ChamberMaster//Event Calendar 2.0//EN
METHOD:PUBLISH
X-PUBLISHED-TTL:P3D
REFRESH-INTERVAL:P3D
CALSCALE:GREGORIAN
BEGIN:VEVENT
DTSTART:20140819T233000Z
DTEND:20140820T010000Z
X-MICROSOFT-CDO-ALLDAYEVENT:FALSE
SUMMARY:Shedding Light on Breast Density
DESCRIPTION:Many women have dense breasts which may cause anxiety during the mammogram screening. Learn how supplementary screenings with MRI and ultrasound can help detect breast cancer where some mammograms may not. Kevin Kirshenbaum\, MD\, a board certified diagnostic radiologist\, and Lisa Derken\, MD\, a board certified family physician\, will discuss the importance in understanding your options and how new laws with breast sonography can benefit women with dense breasts.
X-ALT-DESC;FMTTYPE=text/html:<p align="left">&nbsp\;</p>\n\n<p><font size="2">Many women have dense breasts which may cause anxiety during the mammogram screening. Learn how supplementary screenings with MRI and ultrasound can help detect breast cancer where some mammograms may not. </font><b><font face="ITC Goudy Sans Std Medium\,ITC Goudy Sans Std Medium" size="2"><font face="ITC Goudy Sans Std Medium\,ITC Goudy Sans Std Medium" size="2">Kevin Kirshenbaum\, MD\, </font></font></b><font size="2">a board certified diagnostic radiologist\, and </font><b><font face="ITC Goudy Sans Std Medium\,ITC Goudy Sans Std Medium" size="2"><font face="ITC Goudy Sans Std Medium\,ITC Goudy Sans Std Medium" size="2">Lisa Derken\, MD\, </font></font></b><font size="2">a board certified family physician\, will discuss the importance in understanding your options and how new laws with breast sonography can benefit women with dense breasts. </font></p>\n
LOCATION:The Garlands of Barrington 1000 Garlands Lane\, Barrington Please call (847) 304 1996 for directions
UID:e.138.4352
SEQUENCE:3
DTSTAMP:20260426T022102Z
URL:http://carygrove.smartcms.site/events/details/shedding-light-on-breast-density-08-19-2014-4352
END:VEVENT

END:VCALENDAR
