BEGIN:VCALENDAR
VERSION:2.0
PRODID:-//ChamberMaster//Event Calendar 2.0//EN
METHOD:PUBLISH
X-PUBLISHED-TTL:P3D
REFRESH-INTERVAL:P3D
CALSCALE:GREGORIAN
BEGIN:VEVENT
DTSTART:20140728T210000Z
DTEND:20140729T010000Z
X-MICROSOFT-CDO-ALLDAYEVENT:FALSE
SUMMARY:Scoopie Night Fundraiser for Senior Care Volunteer Network
DESCRIPTION:Join Senior Care Volunteer Network for our Culver's of Huntley Scoopie Night Fundraiser!  Proceeds from dine-in\, carry-out and drive-thru all count towards our goal of supporting seniors in McHenry County and Sun City Huntley.  There is no flyer necessary\, so join us between 4-8 pm on Monday\, July 28\, 2014.  Come out for a good meal and support a great cause!
X-ALT-DESC;FMTTYPE=text/html:Join Senior Care Volunteer Network for our Culver&rsquo\;s of Huntley Scoopie Night Fundraiser!&nbsp\; Proceeds from dine-in\, carry-out and drive-thru all count towards our goal of supporting seniors in McHenry County and Sun City Huntley.&nbsp\; There is no flyer necessary\, so join us between 4-8 pm on Monday\, July 28\, 2014.&nbsp\; Come out for a good meal and support a great cause!
LOCATION:Culver's of Huntley 13240 Rt\, 47 Huntley\, IL 60142
UID:e.138.4349
SEQUENCE:3
DTSTAMP:20260426T034419Z
URL:http://carygrove.smartcms.site/events/details/scoopie-night-fundraiser-for-senior-care-volunteer-network-07-28-2014-4349
END:VEVENT

END:VCALENDAR
