BEGIN:VCALENDAR
VERSION:2.0
PRODID:-//ChamberMaster//Event Calendar 2.0//EN
METHOD:PUBLISH
X-PUBLISHED-TTL:P3D
REFRESH-INTERVAL:P3D
CALSCALE:GREGORIAN
BEGIN:VEVENT
DTSTART:20140729T203000Z
DTEND:20140729T210000Z
X-MICROSOFT-CDO-ALLDAYEVENT:FALSE
SUMMARY:Ribbon Cutting at The Flour Shoppe Bakery & Confections
DESCRIPTION:Ribbon Cutting
X-ALT-DESC;FMTTYPE=text/html:Ribbon Cutting
LOCATION:372 Rt 14 Cary\, IL 60013 Cary
UID:e.138.4389
SEQUENCE:3
DTSTAMP:20260426T034418Z
URL:http://carygrove.smartcms.site/events/details/ribbon-cutting-at-the-flour-shoppe-bakery-confections-07-29-2014-4389
END:VEVENT

END:VCALENDAR
