BEGIN:VCALENDAR
VERSION:2.0
PRODID:-//ChamberMaster//Event Calendar 2.0//EN
METHOD:PUBLISH
X-PUBLISHED-TTL:P3D
REFRESH-INTERVAL:P3D
CALSCALE:GREGORIAN
BEGIN:VEVENT
DTSTART:20190910T143000Z
DTEND:20190911T010000Z
X-MICROSOFT-CDO-ALLDAYEVENT:FALSE
SUMMARY:Registration for All @ FRGML
DESCRIPTION:Register for our Fall 2019 Programs (even if you don't have a card with us!). This fall we are offering: -Murder Mystery Night -SHIP: Understanding Medicare -FAFSA Completion Workshop -NAMI Mental Heath Awareness -Reiki with Marylou Nunamaker
X-ALT-DESC;FMTTYPE=text/html:Register for our Fall 2019 Programs (even if you don&#39\;t have a card with us!). This fall we are offering: -Murder Mystery Night -SHIP: Understanding Medicare -FAFSA Completion Workshop -NAMI Mental Heath Awareness -Reiki with Marylou Nunamaker
LOCATION:Fox River Grove Memorial Library
UID:e.138.10389
SEQUENCE:3
DTSTAMP:20260421T172138Z
URL:http://carygrove.smartcms.site/events/details/registration-for-all-frgml-10389
END:VEVENT

END:VCALENDAR
