BEGIN:VCALENDAR
VERSION:2.0
PRODID:-//ChamberMaster//Event Calendar 2.0//EN
METHOD:PUBLISH
X-PUBLISHED-TTL:P3D
REFRESH-INTERVAL:P3D
CALSCALE:GREGORIAN
BEGIN:VEVENT
DTSTART:20150521T230000Z
DTEND:20150522T010000Z
X-MICROSOFT-CDO-ALLDAYEVENT:FALSE
SUMMARY:Manage Your Online Reputation - Customer Reviews & Ratings
DESCRIPTION:In the socially connected world\, Reputation Marketing is the most important new component you can add to your marketing/social media mix. Customer reviews and ratings left online have more influence than business owners realize and can make or break your ability to attract new clients! Learn key tips and tools for developing a strategy to manage your online reputation to ensure the success of your business.
X-ALT-DESC;FMTTYPE=text/html:<span style="font-size:12px"><span style="font-family:times new roman\,serif">In the socially connected world\, Reputation Marketing is the most important new component you can add to your marketing/social media mix. Customer reviews and ratings left online have more influence than business owners realize and can make or break your ability to attract new clients! Learn key tips and tools for developing a strategy to manage your online reputation to ensure the success of your business. </span><br />\n&nbsp\;</span><br />\n&nbsp\;
LOCATION:McHenry County College Shah Center 4100 W Shamrock Ln McHenry IL 60050
UID:e.138.5905
SEQUENCE:3
DTSTAMP:20260425T112050Z
URL:http://carygrove.smartcms.site/events/details/manage-your-online-reputation-customer-reviews-ratings-05-21-2015-5905
END:VEVENT

END:VCALENDAR
