BEGIN:VCALENDAR
VERSION:2.0
PRODID:-//ChamberMaster//Event Calendar 2.0//EN
METHOD:PUBLISH
X-PUBLISHED-TTL:P3D
REFRESH-INTERVAL:P3D
CALSCALE:GREGORIAN
BEGIN:VEVENT
DTSTART:20141029T000000Z
DTEND:20141029T011500Z
X-MICROSOFT-CDO-ALLDAYEVENT:FALSE
SUMMARY:Lands of History\, Mystery and Enchantment
DESCRIPTION:Doug Dvorak\, professional photographer and speaker\, takes you on a journey to the lands of Portugal\, Spain\, Gibraltar\, and North Africa (Morocco). For centuries these two countries and cultures have collided\, fought wars\, and enjoyed peace. Registration is required.
X-ALT-DESC;FMTTYPE=text/html:Doug Dvorak\, professional photographer and speaker\, takes you on a journey to the lands of Portugal\, Spain\, Gibraltar\, and North Africa (Morocco). For centuries these two countries and cultures have collided\, fought wars\, and enjoyed peace. Registration is required.
LOCATION:Fox River Grove Memorial Library
UID:e.138.4520
SEQUENCE:3
DTSTAMP:20260425T234325Z
URL:http://carygrove.smartcms.site/events/details/lands-of-history-mystery-and-enchantment-10-28-2014-4520
END:VEVENT

END:VCALENDAR
