BEGIN:VCALENDAR
VERSION:2.0
PRODID:-//ChamberMaster//Event Calendar 2.0//EN
METHOD:PUBLISH
X-PUBLISHED-TTL:P3D
REFRESH-INTERVAL:P3D
CALSCALE:GREGORIAN
BEGIN:VEVENT
DTSTART:20150522T133000Z
DTEND:20150522T150000Z
X-MICROSOFT-CDO-ALLDAYEVENT:FALSE
SUMMARY:Introduction to GrowthWheel® ? Make Decisions. Take Actions
DESCRIPTION:GrowthWheel is a visual toolkit for dialogue and decision making now available at the ISBDC. GrowthWheel helps Entrepreneurs build their business through a simple action focused process that stays true to the way most entrepreneurs think and work. GrowthWheel is designed around the observations that all business have four lasting challenges in common: create an attractive Business Concept\; build a strong Organization\; develop lasting Customer Relations\; and do so while maintain profitable Operations. Attend this introductory workshop to learn more about how GrowthWheel can help you!
X-ALT-DESC;FMTTYPE=text/html:<span style="font-size:12px"><span style="font-family:times new roman\,serif">GrowthWheel is a visual toolkit for dialogue and decision making now available at the ISBDC. GrowthWheel helps Entrepreneurs build their business through a simple action focused process that stays true to the way most entrepreneurs think and work. GrowthWheel is designed around the observations that all business have four lasting challenges in common: create an attractive Business Concept\; build a strong Organization\; develop lasting Customer Relations\; and do so while maintain profitable Operations. Attend this introductory workshop to learn more about how GrowthWheel can help you!</span></span>
LOCATION:McHenry County College Shah Center 4100 W Shamrock Ln McHenry IL 60050
UID:e.138.5906
SEQUENCE:3
DTSTAMP:20260425T111758Z
URL:http://carygrove.smartcms.site/events/details/introduction-to-growthwheel-make-decisions-take-actions-05-22-2015-5906
END:VEVENT

END:VCALENDAR
