BEGIN:VCALENDAR
VERSION:2.0
PRODID:-//ChamberMaster//Event Calendar 2.0//EN
METHOD:PUBLISH
X-PUBLISHED-TTL:P3D
REFRESH-INTERVAL:P3D
CALSCALE:GREGORIAN
BEGIN:VEVENT
DTSTART:20150319T233000Z
DTEND:20150320T010000Z
X-MICROSOFT-CDO-ALLDAYEVENT:FALSE
SUMMARY:How to Pay for College Without Going Broke
DESCRIPTION:Learn to significantly reduce the cost of college and still attend the school of your choice. Find out how admissions officers and scholarship committees make their decisions.
X-ALT-DESC;FMTTYPE=text/html:Learn to significantly reduce the cost of college and still attend the school of your choice. Find out how admissions officers and scholarship committees make their decisions.
LOCATION:Fox River Grove Memorial Library
UID:e.138.5427
SEQUENCE:3
DTSTAMP:20260425T144909Z
URL:http://carygrove.smartcms.site/events/details/how-to-pay-for-college-without-going-broke-03-19-2015-5427
END:VEVENT

END:VCALENDAR
