BEGIN:VCALENDAR
VERSION:2.0
PRODID:-//ChamberMaster//Event Calendar 2.0//EN
METHOD:PUBLISH
X-PUBLISHED-TTL:P3D
REFRESH-INTERVAL:P3D
CALSCALE:GREGORIAN
BEGIN:VEVENT
DTSTART:20150228T193000Z
DTEND:20150228T220000Z
X-MICROSOFT-CDO-ALLDAYEVENT:FALSE
SUMMARY:Heart of Art Inter-Generational Art Show
DESCRIPTION:Heart of Art Inter-Generational Art Show\n\nFebruary 28th from 130pm to 4pm \n\nJoin us for this heartwarming display of art by local\, talented\, inter-generational artists.\n\nEnjoy refreshments and enter to win raffle prizes.\n\nThree Oaks Assisted Living is located at 1055 Silver Lake Road\, Cary IL 60013\n\nIf you have any questions please call 847-516-6016
X-ALT-DESC;FMTTYPE=text/html:Heart of Art Inter-Generational Art Show<br />\nFebruary 28th from 130pm to 4pm&nbsp\;<br />\nJoin us for this heartwarming display of art by local\, talented\, inter-generational artists.<br />\nEnjoy refreshments and enter to win raffle prizes.<br />\nThree Oaks Assisted Living is located at 1055 Silver Lake Road\, Cary IL 60013<br />\nIf you have any questions please call 847-516-6016
LOCATION:1055 Silver Lake Road\, Cary\, IL 60013
UID:e.138.5421
SEQUENCE:3
DTSTAMP:20260425T162931Z
URL:http://carygrove.smartcms.site/events/details/heart-of-art-inter-generational-art-show-02-28-2015-5421
END:VEVENT

END:VCALENDAR
