BEGIN:VCALENDAR
VERSION:2.0
PRODID:-//ChamberMaster//Event Calendar 2.0//EN
METHOD:PUBLISH
X-PUBLISHED-TTL:P3D
REFRESH-INTERVAL:P3D
CALSCALE:GREGORIAN
BEGIN:VEVENT
DTSTART:20140913T183000Z
DTEND:20140913T213000Z
X-MICROSOFT-CDO-ALLDAYEVENT:FALSE
SUMMARY:Health Fair at Three Oaks Assisted Living
DESCRIPTION:Health Fair at Three Oaks Assisted Living    \n\nSeptember 13th 1:30 pm to 4:30pm\n\nPlease join us for health related fun and activies!\n\nWine\, cheese and health refreshments\n\nHealth vendor booths\n\nFlu shots\n\nWellness educational programs\n\nRaffle prize\n\n\n\nThere is no cost but please RSVP to let us know you will be coming 847-516-6016
X-ALT-DESC;FMTTYPE=text/html:Health Fair at Three Oaks Assisted Living&nbsp\;&nbsp\;&nbsp\;&nbsp\;<br />\nSeptember 13th 1:30 pm to 4:30pm<br />\nPlease join us for health related fun and activies!<br />\nWine\, cheese and health refreshments<br />\nHealth vendor booths<br />\nFlu shots<br />\nWellness educational programs<br />\nRaffle prize<br />\n<br />\nThere is no cost but please RSVP to let us know you will be coming 847-516-6016<br />\n&nbsp\;
LOCATION:1055 Silver Lake Road Cary\, IL 60013
UID:e.138.4506
SEQUENCE:3
DTSTAMP:20260426T010346Z
URL:http://carygrove.smartcms.site/events/details/health-fair-at-three-oaks-assisted-living-09-13-2014-4506
END:VEVENT

END:VCALENDAR
