BEGIN:VCALENDAR
VERSION:2.0
PRODID:-//ChamberMaster//Event Calendar 2.0//EN
METHOD:PUBLISH
X-PUBLISHED-TTL:P3D
REFRESH-INTERVAL:P3D
CALSCALE:GREGORIAN
BEGIN:VEVENT
DTSTART:20141119T220000Z
DTEND:20141120T070000Z
X-MICROSOFT-CDO-ALLDAYEVENT:FALSE
SUMMARY:Grand Opening!!!
DESCRIPTION:Join us as we celebrate the opening of our new location!  Enjoy an expanded dining room and bar menu offering something for everyone.  Many of our tried and true favorites remain with new additions to try. We are grateful for your continued business and look forward to seeing you at the Hideaway!
X-ALT-DESC;FMTTYPE=text/html:Join us as we celebrate the opening of our new location! &nbsp\;Enjoy an expanded dining room and bar menu offering something for everyone. &nbsp\;Many of our tried and true favorites remain with new additions to try. We are grateful for your continued business and look forward to seeing you at the Hideaway!
LOCATION:
UID:e.138.5129
SEQUENCE:3
DTSTAMP:20260425T215107Z
URL:http://carygrove.smartcms.site/events/details/grand-opening-11-19-2014-5129
END:VEVENT

END:VCALENDAR
