BEGIN:VCALENDAR
VERSION:2.0
PRODID:-//ChamberMaster//Event Calendar 2.0//EN
METHOD:PUBLISH
X-PUBLISHED-TTL:P3D
REFRESH-INTERVAL:P3D
CALSCALE:GREGORIAN
BEGIN:VEVENT
DTSTART:20150411T123000Z
DTEND:20150411T204500Z
X-MICROSOFT-CDO-ALLDAYEVENT:FALSE
SUMMARY:Garden Fest 2015 at The Barn Nursery & Landscape Center
DESCRIPTION:If you're looking to improve your "green thumb"\, or you're a seasoned gardener\, you'll benefit from Gardenfest workshops.  Enjoy over 30 breakout sessions to fill your day with education\, information\, and new ideas.
X-ALT-DESC;FMTTYPE=text/html:If you&#39\;re looking to improve your &quot\;green thumb&quot\;\, or you&#39\;re a seasoned gardener\, you&#39\;ll benefit from Gardenfest workshops.&nbsp\; Enjoy over 30 breakout sessions to fill your day with education\, information\, and new ideas.
LOCATION:McHenry County College 8900 US 14\, Crystal Lake\, IL 60012
UID:e.138.5447
SEQUENCE:3
DTSTAMP:20260425T130119Z
URL:http://carygrove.smartcms.site/events/details/garden-fest-2015-at-the-barn-nursery-landscape-center-04-11-2015-5447
END:VEVENT

END:VCALENDAR
