BEGIN:VCALENDAR
VERSION:2.0
PRODID:-//ChamberMaster//Event Calendar 2.0//EN
METHOD:PUBLISH
X-PUBLISHED-TTL:P3D
REFRESH-INTERVAL:P3D
CALSCALE:GREGORIAN
BEGIN:VEVENT
DTSTART:20140704T121500Z
DTEND:20140704T170000Z
X-MICROSOFT-CDO-ALLDAYEVENT:FALSE
SUMMARY:Family Fitness Run 5K/ 10K Run/ 2K Walk
DESCRIPTION:New Name Same Tradition \n\nFollowing an 18-year tradition\, the Advocate Good Shepherd Hospital Family Fitness Run 5K/10K is the perfect start to the Barrington July 4th celebration. \n\nRunners and walkers can test themselves on challenging 5K or 10K courses that wind through Barrington and Barrington Hills. .
X-ALT-DESC;FMTTYPE=text/html:<p>&nbsp\;</p>\n\n<p><b><font size="5">New Name&mdash\;Same Tradition </font></b></p>\n\n<p><font face="Arial\,Arial" size="3"><font face="Arial\,Arial" size="3">Following an 18-year tradition\, the </font></font><b><font face="Arial\,Arial" size="3"><font face="Arial\,Arial" size="3">Advocate Good Shepherd Hospital Family Fitness Run 5K/10K </font></font></b><font face="Arial\,Arial" size="3"><font face="Arial\,Arial" size="3">is the perfect start to the Barrington July 4th celebration. </font></font></p>\n\n<p><font face="Arial\,Arial" size="3"><font face="Arial\,Arial" size="3">Runners and walkers can test themselves on challenging 5K or 10K courses that wind through Barrington and Barrington Hills. . </font></font></p>\n
LOCATION:Start/Finish in Downtown Barrington Corner of Park and Cook
UID:e.138.4353
SEQUENCE:3
DTSTAMP:20260426T034455Z
URL:http://carygrove.smartcms.site/events/details/family-fitness-run-5k-10k-run-2k-walk-07-04-2014-4353
END:VEVENT

END:VCALENDAR
