BEGIN:VCALENDAR
VERSION:2.0
PRODID:-//ChamberMaster//Event Calendar 2.0//EN
METHOD:PUBLISH
X-PUBLISHED-TTL:P3D
REFRESH-INTERVAL:P3D
CALSCALE:GREGORIAN
BEGIN:VEVENT
DTSTART:20140906T150000Z
DTEND:20140906T190000Z
X-MICROSOFT-CDO-ALLDAYEVENT:FALSE
SUMMARY:Fall Family Fest
DESCRIPTION:Come out and enjoy hayrides\, pony rides\, a petting zoo\, crafts\, a pumpkin patch\, crafts\, and more. Admission to the event is $9.00 for children 3 years and older\, $5.00 for children ages 1 - 2 years\, and is free for adults and children under the age of 1. For more information\, contact the Cary Park District at 847-639-6100 or visit www.carypark.com
X-ALT-DESC;FMTTYPE=text/html:<div>Come out and enjoy hayrides\, pony rides\, a petting zoo\, crafts\, a pumpkin patch\, crafts\, and more. Admission to the event is $9.00 for children 3 years and older\, $5.00 for children ages 1 - 2 years\, and is free for adults and children under the age of 1. For more information\, contact the Cary Park District at 847-639-6100 or visit www.carypark.com</div>\n
LOCATION:Lions Park\, Cary\, IL
UID:e.138.561
SEQUENCE:3
DTSTAMP:20260426T034236Z
URL:http://carygrove.smartcms.site/events/details/fall-family-fest-09-06-2014-561
END:VEVENT

END:VCALENDAR
