BEGIN:VCALENDAR
VERSION:2.0
PRODID:-//ChamberMaster//Event Calendar 2.0//EN
METHOD:PUBLISH
X-PUBLISHED-TTL:P3D
REFRESH-INTERVAL:P3D
CALSCALE:GREGORIAN
BEGIN:VEVENT
DTSTART:20140918T123000Z
DTEND:20140918T140000Z
X-MICROSOFT-CDO-ALLDAYEVENT:FALSE
SUMMARY:Event at WIM3
DESCRIPTION:Women in Mchenry County3 welcomes Dr. Preeti Jhaveri\, MD\, FACOG\, with Barrington Healthcare for Women\, as the speaker for their Thursday\, September 18\, breakfast meeting. Dr. Jhaveri will discuss the topic "Where Did My Libido Go? - Female Sexual Dysfunction and Other Mysteries."  The conversation will center on common things affecting women's libido\, as well as the definition of true sexual dysfunction\, including fatigue\, self-esteem\, and other female health concerns.\n\n\n\nWomen inMcHer Cun3is a netowrking and mentoring organization that meets the third Thursday of each month 7:30 - 9am\, at 31 North Banquets in McHenry.  Cost is just $17 for members and $25 for non-members\, and includes continental breakfast.  Contact PamelaStrelcheck at 815-353-0746 for more informaton or to register.
X-ALT-DESC;FMTTYPE=text/html:Women in Mchenry County3 welcomes Dr. Preeti Jhaveri\, MD\, FACOG\, with Barrington Healthcare for Women\, as the speaker for their Thursday\, September 18\, breakfast meeting. Dr. Jhaveri will discuss the topic &quot\;Where Did My Libido Go? - Female Sexual Dysfunction and Other Mysteries.&quot\;&nbsp\; The conversation will center on common things affecting women&#39\;s libido\, as well as the definition of true sexual dysfunction\, including fatigue\, self-esteem\, and other female health concerns.<br />\n<br />\nWomen inMcHer Cun3is a netowrking and mentoring organization that meets the third Thursday of each month 7:30 - 9am\, at 31 North Banquets in McHenry.&nbsp\; Cost is just $17 for members and $25 for non-members\, and includes continental breakfast.&nbsp\; Contact PamelaStrelcheck at 815-353-0746 for more informaton or to register.
LOCATION:31 North Banquets\, McHenry
UID:e.138.4524
SEQUENCE:3
DTSTAMP:20260426T010726Z
URL:http://carygrove.smartcms.site/events/details/event-at-wim3-09-18-2014-4524
END:VEVENT

END:VCALENDAR
