BEGIN:VCALENDAR
VERSION:2.0
PRODID:-//ChamberMaster//Event Calendar 2.0//EN
METHOD:PUBLISH
X-PUBLISHED-TTL:P3D
REFRESH-INTERVAL:P3D
CALSCALE:GREGORIAN
BEGIN:VEVENT
DTSTART:20140926T150000Z
DTEND:20140928T220000Z
X-MICROSOFT-CDO-ALLDAYEVENT:FALSE
SUMMARY:Event at New Balance Athletic Shoes of Crystal Lake
DESCRIPTION:During the weekend of Friday the 26th\, New Balance Crystal Lake will be hosting a Dry-Dock Try-on Event. Dry-Dock is a dress/dress casual line of shoes developed by New Balance for both men and women. During this weekend anyone who purchases a Dry-Dock shoe will receive $10 off.  In addition\, anyone who trys-on a pair willl receive one of several giveaways and will enter into a raffle for a FREE pair of Dry-Dock shoes.  Come into the store for free snacks\, prizes\, and our raffle\,
X-ALT-DESC;FMTTYPE=text/html:During the weekend of Friday the 26th\, New Balance Crystal Lake will be hosting a Dry-Dock Try-on Event. Dry-Dock is a dress/dress casual line of shoes developed by New Balance for both men and women. During this weekend anyone who purchases a Dry-Dock shoe will receive $10 off.&nbsp\; In addition\, anyone who trys-on a pair willl receive one of several giveaways and will enter into a raffle for a FREE pair of Dry-Dock shoes.&nbsp\; Come into the store for free snacks\, prizes\, and our raffle\,
LOCATION:1AW Crystal Lake Plaza\, Crystal Lake\, IL. 60014
UID:e.138.4528
SEQUENCE:3
DTSTAMP:20260426T010448Z
URL:http://carygrove.smartcms.site/events/details/event-at-new-balance-athletic-shoes-of-crystal-lake-09-26-2014-4528
END:VEVENT

END:VCALENDAR
