BEGIN:VCALENDAR
VERSION:2.0
PRODID:-//ChamberMaster//Event Calendar 2.0//EN
METHOD:PUBLISH
X-PUBLISHED-TTL:P3D
REFRESH-INTERVAL:P3D
CALSCALE:GREGORIAN
BEGIN:VEVENT
DTSTART;VALUE=DATE:20140912
DTEND;VALUE=DATE:20140915
TRANSP:TRANSPARENT
X-MICROSOFT-CDO-ALLDAYEVENT:TRUE
SUMMARY:Customer Appreciation at The Barn Nursery!
DESCRIPTION:Come celebrate another wonderful season of trees\, shrubs and flowers at the Barn Nursery! As we head into Fall and prepare for our Halloween and Christmas seasons at The Barn\, we want to pause for a moment to thank you\, our customers\, for your continued loyalty and support throughout the years. We appreciate your business\, your friendly faces and your love of gardening. Your successes and love of plants make our day\, every day! So come on out and enter to win one of many raffle prizes\, as well as check out our new and exciting promotions\, just for you! Free gift to the first 100 people through the door on Saturday! Hope to see you there!
X-ALT-DESC;FMTTYPE=text/html:<p style="margin-bottom: 0in\;">Come celebrate another wonderful season of trees\, shrubs and flowers at the Barn Nursery! <font color="#000000">As we head into Fall and prepare for our Halloween and Christmas seasons at The Barn\, we want to pause for a moment to thank you\, our customers\, for your continued loyalty and support throughout the years. We appreciate your business\, your friendly faces and your love of gardening. Your successes and love of plants make our day\, every day!</font> So come on out and enter to win one of many raffle prizes\, as well as check out our new and exciting promotions\, just for you! Free gift to the first 100 people through the door on Saturday! Hope to see you there!</p>\n
LOCATION:The Barn Nursery and Landscape Center 8109 South Rt. 31 Cary\, IL 60013
UID:e.138.4509
SEQUENCE:3
DTSTAMP:20260426T022212Z
URL:http://carygrove.smartcms.site/events/details/customer-appreciation-at-the-barn-nursery-09-12-2014-4509
END:VEVENT

END:VCALENDAR
