BEGIN:VCALENDAR
VERSION:2.0
PRODID:-//ChamberMaster//Event Calendar 2.0//EN
METHOD:PUBLISH
X-PUBLISHED-TTL:P3D
REFRESH-INTERVAL:P3D
CALSCALE:GREGORIAN
BEGIN:VEVENT
DTSTART:20140913T140000Z
DTEND:20140913T163000Z
X-MICROSOFT-CDO-ALLDAYEVENT:FALSE
SUMMARY:Cary Park Districk Fishing Derby
DESCRIPTION:Enjoy a morning of fishing and fun during the Happy Trails Fishing Derby. Start the day at the shelter to learn about fishing etiquette and new anglers will receive a quick fishing lesson. Then it's off to the pond to see what you can catch (and release). Participants must be willing to touch worms or come with a partner who will. Fishing poles\, tackle and bait will be provided or you can bring your own. Anyone over 16 must have a current Illinois Fishing License. Raffle prizes\, goody bags and information on fishing will be included. Pre-registration is recommended.  Bar Code: 22473
X-ALT-DESC;FMTTYPE=text/html:Enjoy a morning of fishing and fun during the Happy Trails Fishing Derby. Start the day at the shelter to learn about fishing etiquette and new anglers will receive a quick fishing lesson. Then it&#39\;s off to the pond to see what you can catch (and release). Participants must be willing to touch worms or come with a partner who will. Fishing poles\, tackle and bait will be provided or you can bring your own. Anyone over 16 must have a current Illinois Fishing License. Raffle prizes\, goody bags and information on fishing will be included. Pre-registration is recommended.&nbsp\; Bar Code: 22473
LOCATION:Jaycee Park\, Cary
UID:e.138.4500
SEQUENCE:3
DTSTAMP:20260426T010254Z
URL:http://carygrove.smartcms.site/events/details/cary-park-districk-fishing-derby-09-13-2014-4500
END:VEVENT

END:VCALENDAR
