BEGIN:VCALENDAR
VERSION:2.0
PRODID:-//ChamberMaster//Event Calendar 2.0//EN
METHOD:PUBLISH
X-PUBLISHED-TTL:P3D
REFRESH-INTERVAL:P3D
CALSCALE:GREGORIAN
BEGIN:VEVENT
DTSTART:20150417T233000Z
DTEND:20150418T003000Z
X-MICROSOFT-CDO-ALLDAYEVENT:FALSE
SUMMARY:BINGO for Books
DESCRIPTION:Play BINGO to win books at our family game night! Donate at least one\, gently-used book per player at registration. We use picture cards to make it easy to win. Registration required.
X-ALT-DESC;FMTTYPE=text/html:Play BINGO to win books at our family game night! Donate at least one\, gently-used book per player at registration. We use picture cards to make it easy to win. Registration required.
LOCATION:Fox River Grove Memorial Library
UID:e.138.5440
SEQUENCE:3
DTSTAMP:20260425T125816Z
URL:http://carygrove.smartcms.site/events/details/bingo-for-books-04-17-2015-5440
END:VEVENT

END:VCALENDAR
