BEGIN:VCALENDAR
VERSION:2.0
PRODID:-//ChamberMaster//Event Calendar 2.0//EN
METHOD:PUBLISH
X-PUBLISHED-TTL:P3D
REFRESH-INTERVAL:P3D
CALSCALE:GREGORIAN
BEGIN:VEVENT
DTSTART;VALUE=DATE:20141201
DTEND;VALUE=DATE:20150222
TRANSP:TRANSPARENT
X-MICROSOFT-CDO-ALLDAYEVENT:TRUE
SUMMARY:Adult and Teen Winter Reading Program
DESCRIPTION:Read any four books between December 1st and February 21st to complete this year's "I Read a Latte" Adult and Teen Winter Reading Program. Everyone who completes the program will receive a prize and will then be entered in a drawing to win the grand prize. Registration is required.
X-ALT-DESC;FMTTYPE=text/html:Read any four books between December 1st and February 21st to complete this year&#39\;s &quot\;I Read a Latte&quot\; Adult and Teen Winter Reading Program. Everyone who completes the program will receive a prize and will then be entered in a drawing to win the grand prize. Registration is required.
LOCATION:Fox River Grove Memorial Library 407 Lincoln Ave. Fox River Grove\, IL 60021
UID:e.138.5134
SEQUENCE:3
DTSTAMP:20260425T162921Z
URL:http://carygrove.smartcms.site/events/details/adult-and-teen-winter-reading-program-12-01-2014-5134
END:VEVENT

END:VCALENDAR
